
BEGIN:VCALENDAR
VERSION:2.0
PRODID:-//WIKIMEDIA Österreich - ECPv6.15.20//NONSGML v1.0//EN
CALSCALE:GREGORIAN
METHOD:PUBLISH
X-ORIGINAL-URL:https://wikimedia.at
X-WR-CALDESC:Veranstaltungen für WIKIMEDIA Österreich
REFRESH-INTERVAL;VALUE=DURATION:PT1H
X-Robots-Tag:noindex
X-PUBLISHED-TTL:PT1H
BEGIN:VTIMEZONE
TZID:Europe/Vienna
BEGIN:DAYLIGHT
TZOFFSETFROM:+0100
TZOFFSETTO:+0200
TZNAME:CEST
DTSTART:20220327T010000
END:DAYLIGHT
BEGIN:STANDARD
TZOFFSETFROM:+0200
TZOFFSETTO:+0100
TZNAME:CET
DTSTART:20221030T010000
END:STANDARD
BEGIN:DAYLIGHT
TZOFFSETFROM:+0100
TZOFFSETTO:+0200
TZNAME:CEST
DTSTART:20230326T010000
END:DAYLIGHT
BEGIN:STANDARD
TZOFFSETFROM:+0200
TZOFFSETTO:+0100
TZNAME:CET
DTSTART:20231029T010000
END:STANDARD
BEGIN:DAYLIGHT
TZOFFSETFROM:+0100
TZOFFSETTO:+0200
TZNAME:CEST
DTSTART:20240331T010000
END:DAYLIGHT
BEGIN:STANDARD
TZOFFSETFROM:+0200
TZOFFSETTO:+0100
TZNAME:CET
DTSTART:20241027T010000
END:STANDARD
END:VTIMEZONE
BEGIN:VEVENT
DTSTART;TZID=Europe/Vienna:20231019T183000
DTEND;TZID=Europe/Vienna:20231019T210000
DTSTAMP:20260420T103114
CREATED:20230913T160044Z
LAST-MODIFIED:20230913T160141Z
UID:12269-1697740200-1697749200@wikimedia.at
SUMMARY:Stammtisch in Linz
DESCRIPTION:Diesmal geht es ins Cafe Central in der Landstraße. Eine gute Gelegenheit\, mit zweieinhalb Wochen Abstand rückblickend über die Linzer WikiCon oder auch über ganz andere Themen zu plaudern. Wie immer sind Angehörige und Freunde jeglicher Art herzlich willkommen!
URL:https://wikimedia.at/termin/stammtisch-in-linz/
ATTACH;FMTTYPE=image/png:https://wikimedia.at/wp-content/uploads/Kalender-Stammtisch.svg_.png
END:VEVENT
END:VCALENDAR