
BEGIN:VCALENDAR
VERSION:2.0
PRODID:-//WIKIMEDIA Österreich - ECPv6.15.20//NONSGML v1.0//EN
CALSCALE:GREGORIAN
METHOD:PUBLISH
X-ORIGINAL-URL:https://wikimedia.at
X-WR-CALDESC:Veranstaltungen für WIKIMEDIA Österreich
REFRESH-INTERVAL;VALUE=DURATION:PT1H
X-Robots-Tag:noindex
X-PUBLISHED-TTL:PT1H
BEGIN:VTIMEZONE
TZID:Europe/Vienna
BEGIN:DAYLIGHT
TZOFFSETFROM:+0100
TZOFFSETTO:+0200
TZNAME:CEST
DTSTART:20220327T010000
END:DAYLIGHT
BEGIN:STANDARD
TZOFFSETFROM:+0200
TZOFFSETTO:+0100
TZNAME:CET
DTSTART:20221030T010000
END:STANDARD
BEGIN:DAYLIGHT
TZOFFSETFROM:+0100
TZOFFSETTO:+0200
TZNAME:CEST
DTSTART:20230326T010000
END:DAYLIGHT
BEGIN:STANDARD
TZOFFSETFROM:+0200
TZOFFSETTO:+0100
TZNAME:CET
DTSTART:20231029T010000
END:STANDARD
BEGIN:DAYLIGHT
TZOFFSETFROM:+0100
TZOFFSETTO:+0200
TZNAME:CEST
DTSTART:20240331T010000
END:DAYLIGHT
BEGIN:STANDARD
TZOFFSETFROM:+0200
TZOFFSETTO:+0100
TZNAME:CET
DTSTART:20241027T010000
END:STANDARD
END:VTIMEZONE
BEGIN:VEVENT
DTSTART;TZID=Europe/Vienna:20231020T180000
DTEND;TZID=Europe/Vienna:20231020T210000
DTSTAMP:20260420T103056
CREATED:20230816T142255Z
LAST-MODIFIED:20230913T155500Z
UID:12154-1697824800-1697835600@wikimedia.at
SUMMARY:Tiroler Treffen
DESCRIPTION:Seit 2012 gibt es im Raum Innsbruck in einigermaßen regelmäßigen Abständen Treffen der Wikipedianerinnen und Wikipedianer aus allen Teilen Tirols und darüber hinaus.
URL:https://wikimedia.at/termin/tiroler-treffen/
ATTACH;FMTTYPE=image/png:https://wikimedia.at/wp-content/uploads/Kalender-Stammtisch.svg_.png
END:VEVENT
END:VCALENDAR