
BEGIN:VCALENDAR
VERSION:2.0
PRODID:-//WIKIMEDIA Österreich - ECPv6.15.20//NONSGML v1.0//EN
CALSCALE:GREGORIAN
METHOD:PUBLISH
X-ORIGINAL-URL:https://wikimedia.at
X-WR-CALDESC:Veranstaltungen für WIKIMEDIA Österreich
REFRESH-INTERVAL;VALUE=DURATION:PT1H
X-Robots-Tag:noindex
X-PUBLISHED-TTL:PT1H
BEGIN:VTIMEZONE
TZID:Europe/Vienna
BEGIN:DAYLIGHT
TZOFFSETFROM:+0100
TZOFFSETTO:+0200
TZNAME:CEST
DTSTART:20220327T010000
END:DAYLIGHT
BEGIN:STANDARD
TZOFFSETFROM:+0200
TZOFFSETTO:+0100
TZNAME:CET
DTSTART:20221030T010000
END:STANDARD
BEGIN:DAYLIGHT
TZOFFSETFROM:+0100
TZOFFSETTO:+0200
TZNAME:CEST
DTSTART:20230326T010000
END:DAYLIGHT
BEGIN:STANDARD
TZOFFSETFROM:+0200
TZOFFSETTO:+0100
TZNAME:CET
DTSTART:20231029T010000
END:STANDARD
BEGIN:DAYLIGHT
TZOFFSETFROM:+0100
TZOFFSETTO:+0200
TZNAME:CEST
DTSTART:20240331T010000
END:DAYLIGHT
BEGIN:STANDARD
TZOFFSETFROM:+0200
TZOFFSETTO:+0100
TZNAME:CET
DTSTART:20241027T010000
END:STANDARD
END:VTIMEZONE
BEGIN:VEVENT
DTSTART;TZID=Europe/Vienna:20231110T000000
DTEND;TZID=Europe/Vienna:20231112T235959
DTSTAMP:20260420T084250
CREATED:20230623T180703Z
LAST-MODIFIED:20230623T182158Z
UID:11833-1699574400-1699833599@wikimedia.at
SUMMARY:GLAM-Treffen Berlin 2023
DESCRIPTION:Hybrides Vernetzungs- und Koordinierungstreffen der deutschsprachigen GLAM-Community.
URL:https://wikimedia.at/termin/glam-treffen-berlin-2023/
ATTACH;FMTTYPE=image/png:https://wikimedia.at/wp-content/uploads/Kalender-GLAM-Treffen.png
END:VEVENT
END:VCALENDAR