
BEGIN:VCALENDAR
VERSION:2.0
PRODID:-//WIKIMEDIA Österreich - ECPv6.15.20//NONSGML v1.0//EN
CALSCALE:GREGORIAN
METHOD:PUBLISH
X-ORIGINAL-URL:https://wikimedia.at
X-WR-CALDESC:Veranstaltungen für WIKIMEDIA Österreich
REFRESH-INTERVAL;VALUE=DURATION:PT1H
X-Robots-Tag:noindex
X-PUBLISHED-TTL:PT1H
BEGIN:VTIMEZONE
TZID:Europe/Vienna
BEGIN:DAYLIGHT
TZOFFSETFROM:+0100
TZOFFSETTO:+0200
TZNAME:CEST
DTSTART:20230326T010000
END:DAYLIGHT
BEGIN:STANDARD
TZOFFSETFROM:+0200
TZOFFSETTO:+0100
TZNAME:CET
DTSTART:20231029T010000
END:STANDARD
BEGIN:DAYLIGHT
TZOFFSETFROM:+0100
TZOFFSETTO:+0200
TZNAME:CEST
DTSTART:20240331T010000
END:DAYLIGHT
BEGIN:STANDARD
TZOFFSETFROM:+0200
TZOFFSETTO:+0100
TZNAME:CET
DTSTART:20241027T010000
END:STANDARD
BEGIN:DAYLIGHT
TZOFFSETFROM:+0100
TZOFFSETTO:+0200
TZNAME:CEST
DTSTART:20250330T010000
END:DAYLIGHT
BEGIN:STANDARD
TZOFFSETFROM:+0200
TZOFFSETTO:+0100
TZNAME:CET
DTSTART:20251026T010000
END:STANDARD
END:VTIMEZONE
BEGIN:VEVENT
DTSTART;TZID=Europe/Vienna:20240307T000000
DTEND;TZID=Europe/Vienna:20240309T235959
DTSTAMP:20260420T013648
CREATED:20240306T115113Z
LAST-MODIFIED:20240306T121517Z
UID:13152-1709769600-1710028799@wikimedia.at
SUMMARY:Art+Feminisms Workshop
DESCRIPTION:Frauen und queere Personen sind immer noch unterrepräsentiert auf Wikipedia. In diesem Workshop sind Interessierte dazu eingeladen\, Autor*innen zu werden. Gemeinsam erstellen wir Wikipedia-Einträge\, um so dem Ungleichgewicht entgegenzuwirken.
URL:https://wikimedia.at/termin/artfeminisms-workshop/
LOCATION:Belvedere 21\, Arsenalstraße 1 (Veranstaltungsraum UG)\, Wien\, 1030\, Austria
ATTACH;FMTTYPE=image/png:https://wikimedia.at/wp-content/uploads/Kalender-Workshop-real.png
END:VEVENT
END:VCALENDAR