
BEGIN:VCALENDAR
VERSION:2.0
PRODID:-//WIKIMEDIA Österreich - ECPv6.15.20//NONSGML v1.0//EN
CALSCALE:GREGORIAN
METHOD:PUBLISH
X-ORIGINAL-URL:https://wikimedia.at
X-WR-CALDESC:Veranstaltungen für WIKIMEDIA Österreich
REFRESH-INTERVAL;VALUE=DURATION:PT1H
X-Robots-Tag:noindex
X-PUBLISHED-TTL:PT1H
BEGIN:VTIMEZONE
TZID:Europe/Vienna
BEGIN:DAYLIGHT
TZOFFSETFROM:+0100
TZOFFSETTO:+0200
TZNAME:CEST
DTSTART:20230326T010000
END:DAYLIGHT
BEGIN:STANDARD
TZOFFSETFROM:+0200
TZOFFSETTO:+0100
TZNAME:CET
DTSTART:20231029T010000
END:STANDARD
BEGIN:DAYLIGHT
TZOFFSETFROM:+0100
TZOFFSETTO:+0200
TZNAME:CEST
DTSTART:20240331T010000
END:DAYLIGHT
BEGIN:STANDARD
TZOFFSETFROM:+0200
TZOFFSETTO:+0100
TZNAME:CET
DTSTART:20241027T010000
END:STANDARD
BEGIN:DAYLIGHT
TZOFFSETFROM:+0100
TZOFFSETTO:+0200
TZNAME:CEST
DTSTART:20250330T010000
END:DAYLIGHT
BEGIN:STANDARD
TZOFFSETFROM:+0200
TZOFFSETTO:+0100
TZNAME:CET
DTSTART:20251026T010000
END:STANDARD
END:VTIMEZONE
BEGIN:VEVENT
DTSTART;TZID=Europe/Vienna:20240409T000000
DTEND;TZID=Europe/Vienna:20240411T235959
DTSTAMP:20260419T235252
CREATED:20240306T113611Z
LAST-MODIFIED:20240306T113647Z
UID:13148-1712620800-1712879999@wikimedia.at
SUMMARY:Enhancing the voice of science on Wikipedia
DESCRIPTION:How universities can collaborate with the online encyclopedia in science communication.
URL:https://wikimedia.at/termin/enhancing-the-voice-of-science-on-wikipedia/
LOCATION:University of Innsbruck\, Ágnes-Heller-Haus\, Innrain 52a\, Innsbruck\, 6020\, Austria
ATTACH;FMTTYPE=image/png:https://wikimedia.at/wp-content/uploads/Kalender-Education.png
END:VEVENT
BEGIN:VEVENT
DTSTART;TZID=Europe/Vienna:20240409T183000
DTEND;TZID=Europe/Vienna:20240409T200000
DTSTAMP:20260419T235252
CREATED:20240126T164006Z
LAST-MODIFIED:20240312T165425Z
UID:12985-1712687400-1712692800@wikimedia.at
SUMMARY:Ideenwerkstatt 2024
DESCRIPTION:Wikimedia Österreich lädt zum Ideenaustausch für Projekte und Planungen für das Jahr 2024 ein. Wir freuen uns über eure Ideen und wollen gemeinsam mit euch überlegen\, wie wir sie in unsere Jahresplanung einfließen lassen können.
URL:https://wikimedia.at/termin/ideenwerkstatt-2024/
ATTACH;FMTTYPE=image/png:https://wikimedia.at/wp-content/uploads/Kalender-Ideenwerkstatt.png
END:VEVENT
END:VCALENDAR