
BEGIN:VCALENDAR
VERSION:2.0
PRODID:-//WIKIMEDIA Österreich - ECPv6.15.20//NONSGML v1.0//EN
CALSCALE:GREGORIAN
METHOD:PUBLISH
X-WR-CALNAME:WIKIMEDIA Österreich
X-ORIGINAL-URL:https://wikimedia.at
X-WR-CALDESC:Veranstaltungen für WIKIMEDIA Österreich
REFRESH-INTERVAL;VALUE=DURATION:PT1H
X-Robots-Tag:noindex
X-PUBLISHED-TTL:PT1H
BEGIN:VTIMEZONE
TZID:Europe/Vienna
BEGIN:DAYLIGHT
TZOFFSETFROM:+0100
TZOFFSETTO:+0200
TZNAME:CEST
DTSTART:20230326T010000
END:DAYLIGHT
BEGIN:STANDARD
TZOFFSETFROM:+0200
TZOFFSETTO:+0100
TZNAME:CET
DTSTART:20231029T010000
END:STANDARD
BEGIN:DAYLIGHT
TZOFFSETFROM:+0100
TZOFFSETTO:+0200
TZNAME:CEST
DTSTART:20240331T010000
END:DAYLIGHT
BEGIN:STANDARD
TZOFFSETFROM:+0200
TZOFFSETTO:+0100
TZNAME:CET
DTSTART:20241027T010000
END:STANDARD
BEGIN:DAYLIGHT
TZOFFSETFROM:+0100
TZOFFSETTO:+0200
TZNAME:CEST
DTSTART:20250330T010000
END:DAYLIGHT
BEGIN:STANDARD
TZOFFSETFROM:+0200
TZOFFSETTO:+0100
TZNAME:CET
DTSTART:20251026T010000
END:STANDARD
END:VTIMEZONE
BEGIN:VEVENT
DTSTART;TZID=Europe/Vienna:20240423T180000
DTEND;TZID=Europe/Vienna:20240423T200000
DTSTAMP:20260419T234906
CREATED:20240422T124309Z
LAST-MODIFIED:20240422T124406Z
UID:13308-1713895200-1713902400@wikimedia.at
SUMMARY:Zur Zukunft von WikiDaheim
DESCRIPTION:Im Anschluss an die Ideenwerkstatt vom 9.4. wollen wir nochmals Gelegenheit geben\, vertiefend über WikiDaheim 2024 und auch 2025 zu sprechen.
URL:https://wikimedia.at/termin/zur-zukunft-von-wikidaheim/
ATTACH;FMTTYPE=image/jpeg:https://wikimedia.at/wp-content/uploads/WikiDaheim-Blogtitel.jpg
END:VEVENT
END:VCALENDAR