
BEGIN:VCALENDAR
VERSION:2.0
PRODID:-//WIKIMEDIA Österreich - ECPv6.15.20//NONSGML v1.0//EN
CALSCALE:GREGORIAN
METHOD:PUBLISH
X-ORIGINAL-URL:https://wikimedia.at
X-WR-CALDESC:Veranstaltungen für WIKIMEDIA Österreich
REFRESH-INTERVAL;VALUE=DURATION:PT1H
X-Robots-Tag:noindex
X-PUBLISHED-TTL:PT1H
BEGIN:VTIMEZONE
TZID:Europe/Vienna
BEGIN:DAYLIGHT
TZOFFSETFROM:+0100
TZOFFSETTO:+0200
TZNAME:CEST
DTSTART:20230326T010000
END:DAYLIGHT
BEGIN:STANDARD
TZOFFSETFROM:+0200
TZOFFSETTO:+0100
TZNAME:CET
DTSTART:20231029T010000
END:STANDARD
BEGIN:DAYLIGHT
TZOFFSETFROM:+0100
TZOFFSETTO:+0200
TZNAME:CEST
DTSTART:20240331T010000
END:DAYLIGHT
BEGIN:STANDARD
TZOFFSETFROM:+0200
TZOFFSETTO:+0100
TZNAME:CET
DTSTART:20241027T010000
END:STANDARD
BEGIN:DAYLIGHT
TZOFFSETFROM:+0100
TZOFFSETTO:+0200
TZNAME:CEST
DTSTART:20250330T010000
END:DAYLIGHT
BEGIN:STANDARD
TZOFFSETFROM:+0200
TZOFFSETTO:+0100
TZNAME:CET
DTSTART:20251026T010000
END:STANDARD
END:VTIMEZONE
BEGIN:VEVENT
DTSTART;TZID=Europe/Vienna:20240501T000000
DTEND;TZID=Europe/Vienna:20240531T235959
DTSTAMP:20260419T220458
CREATED:20240411T135350Z
LAST-MODIFIED:20240411T135504Z
UID:13274-1714521600-1717199999@wikimedia.at
SUMMARY:Wikidata-Wettbewerb: Coordinate Me!
DESCRIPTION:COORDINATE ME 2024 ist ein von Wikimedia Österreich organisierter internationaler Wikidata-Wettbewerb rund um Geodaten – von Dörfern und Krankenhäusern bis hin zu öffentlicher Kunst und Naturdenkmälern. Ziel ist es\, Wikidata-Datenobjekte zu verbessern oder neu zu erstellen\, die eine geographische Koordinaten (P625)-Eigenschaft haben oder haben können.
URL:https://wikimedia.at/termin/wikidata-wettbewerb-coordinate-me/
ATTACH;FMTTYPE=image/png:https://wikimedia.at/wp-content/uploads/Kompass_de_NO.svg_.png
END:VEVENT
BEGIN:VEVENT
DTSTART;TZID=Europe/Vienna:20240503T000000
DTEND;TZID=Europe/Vienna:20240505T235959
DTSTAMP:20260419T220458
CREATED:20240411T134429Z
LAST-MODIFIED:20240411T135756Z
UID:13270-1714694400-1714953599@wikimedia.at
SUMMARY:Train the Trainer (München)
DESCRIPTION:Das Seminar richtet sich an Wikipedianer*innen\, die ihre bisherigen Trainingserfahrungen verbessern wollen oder in Zukunft praktische Wikipedia-Einführungskurse oder Edit-a-thons veranstalten möchten. Die Teilnehmenden werden darin geschult\, praktische Wikipedia-Einführungskurse zu geben.
URL:https://wikimedia.at/termin/train-the-trainer-muenchen/
ATTACH;FMTTYPE=image/png:https://wikimedia.at/wp-content/uploads/Kalender-Vortrag-real.png
END:VEVENT
BEGIN:VEVENT
DTSTART;TZID=Europe/Vienna:20240504T100000
DTEND;TZID=Europe/Vienna:20240504T170000
DTSTAMP:20260419T220458
CREATED:20240411T134703Z
LAST-MODIFIED:20240411T135737Z
UID:13272-1714816800-1714842000@wikimedia.at
SUMMARY:Wikidata für Anfänger & Datathon
DESCRIPTION:Die Einführungsvorträge und der Datathon finden begleitend zum Wikidata-Wettbewerb Coordinate Me (1. bis 31. Mai 2024) statt — die Teilnahme daran ist aber unabhängig von der Wettbewerbs-Teilnahme möglich! Die Workshop-Vorträge sollen Interessierten mit Tipps und Erklärungen dabei helfen\, Items auf Wikidata sinnvoll zu erstellen\, zu erweitern und zu pflegen.
URL:https://wikimedia.at/termin/wikidata-fuer-anfaenger-datathon/
ATTACH;FMTTYPE=image/png:https://wikimedia.at/wp-content/uploads/Wikidata_heart_logo.svg_.png
END:VEVENT
END:VCALENDAR