
BEGIN:VCALENDAR
VERSION:2.0
PRODID:-//WIKIMEDIA Österreich - ECPv6.15.20//NONSGML v1.0//EN
CALSCALE:GREGORIAN
METHOD:PUBLISH
X-ORIGINAL-URL:https://wikimedia.at
X-WR-CALDESC:Veranstaltungen für WIKIMEDIA Österreich
REFRESH-INTERVAL;VALUE=DURATION:PT1H
X-Robots-Tag:noindex
X-PUBLISHED-TTL:PT1H
BEGIN:VTIMEZONE
TZID:Europe/Vienna
BEGIN:DAYLIGHT
TZOFFSETFROM:+0100
TZOFFSETTO:+0200
TZNAME:CEST
DTSTART:20230326T010000
END:DAYLIGHT
BEGIN:STANDARD
TZOFFSETFROM:+0200
TZOFFSETTO:+0100
TZNAME:CET
DTSTART:20231029T010000
END:STANDARD
BEGIN:DAYLIGHT
TZOFFSETFROM:+0100
TZOFFSETTO:+0200
TZNAME:CEST
DTSTART:20240331T010000
END:DAYLIGHT
BEGIN:STANDARD
TZOFFSETFROM:+0200
TZOFFSETTO:+0100
TZNAME:CET
DTSTART:20241027T010000
END:STANDARD
BEGIN:DAYLIGHT
TZOFFSETFROM:+0100
TZOFFSETTO:+0200
TZNAME:CEST
DTSTART:20250330T010000
END:DAYLIGHT
BEGIN:STANDARD
TZOFFSETFROM:+0200
TZOFFSETTO:+0100
TZNAME:CET
DTSTART:20251026T010000
END:STANDARD
END:VTIMEZONE
BEGIN:VEVENT
DTSTART;TZID=Europe/Vienna:20240607T000000
DTEND;TZID=Europe/Vienna:20240609T235959
DTSTAMP:20260419T201859
CREATED:20240417T154456Z
LAST-MODIFIED:20240417T154556Z
UID:13295-1717718400-1717977599@wikimedia.at
SUMMARY:Wikipedia-Zukunftskongress
DESCRIPTION:Die Wikipedia steht vor großen Aufgaben und Chancen. Diese wollen wir ergreifen und laden herzlich zur Online-Teilnahme am Wikipedia-Zukunftskongress vom 7. bis 9. Juni 2024 ein!  \n\n\n\nEs gilt\, Wikipedia als verlässliche Quelle für Freies Wissen auch für die kommenden Generationen zu erhalten. Der Wikipedia-Zukunftskongress bietet einen Raum für inspirierende Diskussionen\, innovative Ideen und konkrete Lösungsansätze\, um die Zukunft der Wikipedia aktiv mitzugestalten.
URL:https://wikimedia.at/termin/wikipedia-zukunftskongress/
ATTACH;FMTTYPE=image/png:https://wikimedia.at/wp-content/uploads/Rocketman-Zukunftskongress.png
END:VEVENT
BEGIN:VEVENT
DTSTART;TZID=Europe/Vienna:20240607T160000
DTEND;TZID=Europe/Vienna:20240607T180000
DTSTAMP:20260419T201859
CREATED:20240515T122211Z
LAST-MODIFIED:20240515T122212Z
UID:13412-1717776000-1717783200@wikimedia.at
SUMMARY:31. Tiroler Treffen - "Tirol trifft Nürnberg"
DESCRIPTION:Mal was Spezielles: Innsbruck/Tirol kommt nach Nürnberg! Wir treffen uns zu unserem 31. Tiroler Treffen am Freitag\, 7. Juni 2024 um 16:00 Uhr im „Café in der 12„ (Königstraße 82\, 90402 Nürnberg\, Deutschland). Aus organisatorischen Gründen bitten wir um eine frühzeitige Anmeldung (diese ist jedoch keine Pflicht). \n\n\n\nDieses Treffen ist als Vorbereitung auf den Wikipedia-Zukunftskongress sowie als länderübergreifende Vernetzung gedacht. Wir freuen uns über jede und jeden\, der/die dazukommt!
URL:https://wikimedia.at/termin/31-tiroler-treffen-tirol-trifft-nuernberg/
ATTACH;FMTTYPE=image/png:https://wikimedia.at/wp-content/uploads/Kalender-Stammtisch.svg_.png
END:VEVENT
END:VCALENDAR