
BEGIN:VCALENDAR
VERSION:2.0
PRODID:-//WIKIMEDIA Österreich - ECPv6.15.20//NONSGML v1.0//EN
CALSCALE:GREGORIAN
METHOD:PUBLISH
X-WR-CALNAME:WIKIMEDIA Österreich
X-ORIGINAL-URL:https://wikimedia.at
X-WR-CALDESC:Veranstaltungen für WIKIMEDIA Österreich
REFRESH-INTERVAL;VALUE=DURATION:PT1H
X-Robots-Tag:noindex
X-PUBLISHED-TTL:PT1H
BEGIN:VTIMEZONE
TZID:Europe/Vienna
BEGIN:DAYLIGHT
TZOFFSETFROM:+0100
TZOFFSETTO:+0200
TZNAME:CEST
DTSTART:20230326T010000
END:DAYLIGHT
BEGIN:STANDARD
TZOFFSETFROM:+0200
TZOFFSETTO:+0100
TZNAME:CET
DTSTART:20231029T010000
END:STANDARD
BEGIN:DAYLIGHT
TZOFFSETFROM:+0100
TZOFFSETTO:+0200
TZNAME:CEST
DTSTART:20240331T010000
END:DAYLIGHT
BEGIN:STANDARD
TZOFFSETFROM:+0200
TZOFFSETTO:+0100
TZNAME:CET
DTSTART:20241027T010000
END:STANDARD
BEGIN:DAYLIGHT
TZOFFSETFROM:+0100
TZOFFSETTO:+0200
TZNAME:CEST
DTSTART:20250330T010000
END:DAYLIGHT
BEGIN:STANDARD
TZOFFSETFROM:+0200
TZOFFSETTO:+0100
TZNAME:CET
DTSTART:20251026T010000
END:STANDARD
END:VTIMEZONE
BEGIN:VEVENT
DTSTART;TZID=Europe/Vienna:20240613T180000
DTEND;TZID=Europe/Vienna:20240613T200000
DTSTAMP:20260419T201744
CREATED:20240515T121930Z
LAST-MODIFIED:20240527T114721Z
UID:13410-1718301600-1718308800@wikimedia.at
SUMMARY:85. Wiener Wikipedia-Stammtisch beim Heurigen
DESCRIPTION:Auch dieses Jahr zieht es uns wieder an den Stadtrand nach Mauer\, um gemeinsam einen hoffentlich lauen Sommerabend zu verbringen und vielleicht die legendäre Kardinalschnitte zu testen. Der 85. Wiener Stammtisch findet ab 18 Uhr beim Heurigen Edlmoser statt. Wie immer sind auch Freunde und Angehörige jeder Art herzlich willkommen!
URL:https://wikimedia.at/termin/85-wiener-stammtisch-heurigen-stammtisch/
ATTACH;FMTTYPE=image/png:https://wikimedia.at/wp-content/uploads/Kalender-WikiCon.png
END:VEVENT
END:VCALENDAR