
BEGIN:VCALENDAR
VERSION:2.0
PRODID:-//WIKIMEDIA Österreich - ECPv6.15.20//NONSGML v1.0//EN
CALSCALE:GREGORIAN
METHOD:PUBLISH
X-ORIGINAL-URL:https://wikimedia.at
X-WR-CALDESC:Veranstaltungen für WIKIMEDIA Österreich
REFRESH-INTERVAL;VALUE=DURATION:PT1H
X-Robots-Tag:noindex
X-PUBLISHED-TTL:PT1H
BEGIN:VTIMEZONE
TZID:Europe/Vienna
BEGIN:DAYLIGHT
TZOFFSETFROM:+0100
TZOFFSETTO:+0200
TZNAME:CEST
DTSTART:20240331T010000
END:DAYLIGHT
BEGIN:STANDARD
TZOFFSETFROM:+0200
TZOFFSETTO:+0100
TZNAME:CET
DTSTART:20241027T010000
END:STANDARD
BEGIN:DAYLIGHT
TZOFFSETFROM:+0100
TZOFFSETTO:+0200
TZNAME:CEST
DTSTART:20250330T010000
END:DAYLIGHT
BEGIN:STANDARD
TZOFFSETFROM:+0200
TZOFFSETTO:+0100
TZNAME:CET
DTSTART:20251026T010000
END:STANDARD
BEGIN:DAYLIGHT
TZOFFSETFROM:+0100
TZOFFSETTO:+0200
TZNAME:CEST
DTSTART:20260329T010000
END:DAYLIGHT
BEGIN:STANDARD
TZOFFSETFROM:+0200
TZOFFSETTO:+0100
TZNAME:CET
DTSTART:20261025T010000
END:STANDARD
END:VTIMEZONE
BEGIN:VEVENT
DTSTART;TZID=Europe/Vienna:20251117T180000
DTEND;TZID=Europe/Vienna:20251117T200000
DTSTAMP:20260419T153115
CREATED:20251105T095820Z
LAST-MODIFIED:20251105T112807Z
UID:16744-1763402400-1763409600@wikimedia.at
SUMMARY:GLAM digital: Ein virtueller Austausch mit dem Staatlichen Museum für Archäologie Chemnitz
DESCRIPTION:Diese GLAM-digital-Veranstaltung bietet nun die Gelegenheit\, einen gemeinsamen Blick auf das smac zu werfen. Das Staatliche Museum für Archäologie Chemnitz ist das archäologisch-kulturhistorische Landesmuseum des Freistaates Sachsen und befindet sich in Chemnitz. Das Museum präsentiert rund 300.000 Jahre Menschheits- und Kulturgeschichte und ist damit das zentrale Archäologiemuseum Sachsens. \n\n\n\nNach einem thematischen Input wird es Zeit für Fragen und die Möglichkeit zum Austausch über mögliche Kooperationsideen geben. Wir freuen uns auf euch!
URL:https://wikimedia.at/termin/glam-digital-ein-virtueller-austausch-mit-dem-staatlichen-museum-fuer-archaeologie-chemnitz/
ATTACH;FMTTYPE=image/png:https://wikimedia.at/wp-content/uploads/Kalender-Vortrag-online.png
END:VEVENT
END:VCALENDAR