
BEGIN:VCALENDAR
VERSION:2.0
PRODID:-//WIKIMEDIA Österreich - ECPv6.15.20//NONSGML v1.0//EN
CALSCALE:GREGORIAN
METHOD:PUBLISH
X-ORIGINAL-URL:https://wikimedia.at
X-WR-CALDESC:Veranstaltungen für WIKIMEDIA Österreich
REFRESH-INTERVAL;VALUE=DURATION:PT1H
X-Robots-Tag:noindex
X-PUBLISHED-TTL:PT1H
BEGIN:VTIMEZONE
TZID:Europe/Vienna
BEGIN:DAYLIGHT
TZOFFSETFROM:+0100
TZOFFSETTO:+0200
TZNAME:CEST
DTSTART:20220327T010000
END:DAYLIGHT
BEGIN:STANDARD
TZOFFSETFROM:+0200
TZOFFSETTO:+0100
TZNAME:CET
DTSTART:20221030T010000
END:STANDARD
BEGIN:DAYLIGHT
TZOFFSETFROM:+0100
TZOFFSETTO:+0200
TZNAME:CEST
DTSTART:20230326T010000
END:DAYLIGHT
BEGIN:STANDARD
TZOFFSETFROM:+0200
TZOFFSETTO:+0100
TZNAME:CET
DTSTART:20231029T010000
END:STANDARD
BEGIN:DAYLIGHT
TZOFFSETFROM:+0100
TZOFFSETTO:+0200
TZNAME:CEST
DTSTART:20240331T010000
END:DAYLIGHT
BEGIN:STANDARD
TZOFFSETFROM:+0200
TZOFFSETTO:+0100
TZNAME:CET
DTSTART:20241027T010000
END:STANDARD
END:VTIMEZONE
BEGIN:VEVENT
DTSTART;TZID=Europe/Vienna:20230701T000000
DTEND;TZID=Europe/Vienna:20231008T235959
DTSTAMP:20260420T103122
CREATED:20230605T141553Z
LAST-MODIFIED:20230623T180913Z
UID:11653-1688169600-1696809599@wikimedia.at
SUMMARY:WikiDaheim 2023
DESCRIPTION:Jährlicher Wettbewerb für Fotos\, Videos und Audiodateien aus Österreich.
URL:https://wikimedia.at/termin/wikidaheim-2023/
ATTACH;FMTTYPE=image/png:https://wikimedia.at/wp-content/uploads/Kalender-Fotowettbewerb.png
END:VEVENT
BEGIN:VEVENT
DTSTART;TZID=Europe/Vienna:20230905T180000
DTEND;TZID=Europe/Vienna:20230905T200000
DTSTAMP:20260420T103122
CREATED:20230816T141536Z
LAST-MODIFIED:20230904T200038Z
UID:12152-1693936800-1693944000@wikimedia.at
SUMMARY:WikiDienstag
DESCRIPTION:Das regelmäßige Treffen der Wiener Community in der Geschäftsstelle von Wikimedia Österreich.
URL:https://wikimedia.at/termin/wikidienstag-2/
ATTACH;FMTTYPE=image/png:https://wikimedia.at/wp-content/uploads/1280px-WP20Symbols_community1.svg_.png
END:VEVENT
BEGIN:VEVENT
DTSTART;TZID=Europe/Vienna:20230911T180000
DTEND;TZID=Europe/Vienna:20230911T200000
DTSTAMP:20260420T103122
CREATED:20230623T165549Z
LAST-MODIFIED:20230623T165550Z
UID:11819-1694455200-1694462400@wikimedia.at
SUMMARY:GLAM digital: Friedhofskultur
DESCRIPTION:Teil unserer Online-Veranstaltungsreihe GLAM digital mit Gastvorträgen von Kultur- und Gedächtnisorganisationen aus Österreich\, Deutschland und der Schweiz.
URL:https://wikimedia.at/termin/glam-digital-friedhofskultur/
ATTACH;FMTTYPE=image/png:https://wikimedia.at/wp-content/uploads/Kalender-Vortrag-online.png
END:VEVENT
BEGIN:VEVENT
DTSTART;TZID=Europe/Vienna:20230917T000000
DTEND;TZID=Europe/Vienna:20230917T235959
DTSTAMP:20260420T103122
CREATED:20230623T172951Z
LAST-MODIFIED:20230623T180449Z
UID:11827-1694908800-1694995199@wikimedia.at
SUMMARY:OÖ Ortsbildmesse
DESCRIPTION:Wikimedia-Stand auf der 31. Oberösterreichischen Ortsbildmesse in der Gemeinde Eitzing.
URL:https://wikimedia.at/termin/ooe-ortsbildmesse/
ATTACH;FMTTYPE=image/png:https://wikimedia.at/wp-content/uploads/Kalender-Messe.png
END:VEVENT
BEGIN:VEVENT
DTSTART;TZID=Europe/Vienna:20230929T000000
DTEND;TZID=Europe/Vienna:20231001T235959
DTSTAMP:20260420T103122
CREATED:20230605T140804Z
LAST-MODIFIED:20230605T140805Z
UID:11649-1695945600-1696204799@wikimedia.at
SUMMARY:WikiCon 2023
DESCRIPTION:Jährliche Konferenz der deutschsprachigen Communitys\, dieses Jahr in Linz und als Hybridveranstaltung.
URL:https://wikimedia.at/termin/wikicon-2023/
ATTACH;FMTTYPE=image/png:https://wikimedia.at/wp-content/uploads/Kalender-WikiCon.png
END:VEVENT
END:VCALENDAR