
BEGIN:VCALENDAR
VERSION:2.0
PRODID:-//WIKIMEDIA Österreich - ECPv6.15.20//NONSGML v1.0//EN
CALSCALE:GREGORIAN
METHOD:PUBLISH
X-WR-CALNAME:WIKIMEDIA Österreich
X-ORIGINAL-URL:https://wikimedia.at
X-WR-CALDESC:Veranstaltungen für WIKIMEDIA Österreich
REFRESH-INTERVAL;VALUE=DURATION:PT1H
X-Robots-Tag:noindex
X-PUBLISHED-TTL:PT1H
BEGIN:VTIMEZONE
TZID:Europe/Vienna
BEGIN:DAYLIGHT
TZOFFSETFROM:+0100
TZOFFSETTO:+0200
TZNAME:CEST
DTSTART:20220327T010000
END:DAYLIGHT
BEGIN:STANDARD
TZOFFSETFROM:+0200
TZOFFSETTO:+0100
TZNAME:CET
DTSTART:20221030T010000
END:STANDARD
BEGIN:DAYLIGHT
TZOFFSETFROM:+0100
TZOFFSETTO:+0200
TZNAME:CEST
DTSTART:20230326T010000
END:DAYLIGHT
BEGIN:STANDARD
TZOFFSETFROM:+0200
TZOFFSETTO:+0100
TZNAME:CET
DTSTART:20231029T010000
END:STANDARD
BEGIN:DAYLIGHT
TZOFFSETFROM:+0100
TZOFFSETTO:+0200
TZNAME:CEST
DTSTART:20240331T010000
END:DAYLIGHT
BEGIN:STANDARD
TZOFFSETFROM:+0200
TZOFFSETTO:+0100
TZNAME:CET
DTSTART:20241027T010000
END:STANDARD
END:VTIMEZONE
BEGIN:VEVENT
DTSTART;TZID=Europe/Vienna:20231204T180000
DTEND;TZID=Europe/Vienna:20231204T200000
DTSTAMP:20260420T050411
CREATED:20231122T133934Z
LAST-MODIFIED:20231122T134035Z
UID:12688-1701712800-1701720000@wikimedia.at
SUMMARY:GLAM digital: Wiki Loves Revo­lution – Zu den  Revolutionen 1848/49
DESCRIPTION:Teil unserer Online-Veranstaltungsreihe GLAM digital mit Gastvorträgen von Kultur- und Gedächtnisorganisationen aus Österreich\, Deutschland und der Schweiz.
URL:https://wikimedia.at/termin/glam-digital-wiki-loves-revolution/
ATTACH;FMTTYPE=image/png:https://wikimedia.at/wp-content/uploads/Kalender-Vortrag-online.png
END:VEVENT
BEGIN:VEVENT
DTSTART;TZID=Europe/Vienna:20231219T180000
DTEND;TZID=Europe/Vienna:20231219T200000
DTSTAMP:20260420T050411
CREATED:20230914T101640Z
LAST-MODIFIED:20231212T130045Z
UID:12272-1703008800-1703016000@wikimedia.at
SUMMARY:WeihnachtsWikiDienstag
DESCRIPTION:🎅🏻 Unser WeihnachtsWikiDienstag: Kekse & mehr 🎄
URL:https://wikimedia.at/termin/weihnachtswikidienstag/
ATTACH;FMTTYPE=image/png:https://wikimedia.at/wp-content/uploads/1280px-WP20Symbols_community1.svg_.png
END:VEVENT
BEGIN:VEVENT
DTSTART;TZID=Europe/Vienna:20231222T180000
DTEND;TZID=Europe/Vienna:20231222T200000
DTSTAMP:20260420T050411
CREATED:20231115T100055Z
LAST-MODIFIED:20231115T100146Z
UID:12674-1703268000-1703275200@wikimedia.at
SUMMARY:29. Tiroler Treffen
DESCRIPTION:Zum Jahresausklang findet kurz vor Weihnachten ein Wikipedia-Treffen im Treibhaus (Speisekarte) in Innsbruck statt.
URL:https://wikimedia.at/termin/29-tiroler-treffen/
ATTACH;FMTTYPE=image/png:https://wikimedia.at/wp-content/uploads/Kalender-Stammtisch.svg_.png
END:VEVENT
END:VCALENDAR