
BEGIN:VCALENDAR
VERSION:2.0
PRODID:-//WIKIMEDIA Österreich - ECPv6.15.20//NONSGML v1.0//EN
CALSCALE:GREGORIAN
METHOD:PUBLISH
X-ORIGINAL-URL:https://wikimedia.at
X-WR-CALDESC:Veranstaltungen für WIKIMEDIA Österreich
REFRESH-INTERVAL;VALUE=DURATION:PT1H
X-Robots-Tag:noindex
X-PUBLISHED-TTL:PT1H
BEGIN:VTIMEZONE
TZID:Europe/Vienna
BEGIN:DAYLIGHT
TZOFFSETFROM:+0100
TZOFFSETTO:+0200
TZNAME:CEST
DTSTART:20230326T010000
END:DAYLIGHT
BEGIN:STANDARD
TZOFFSETFROM:+0200
TZOFFSETTO:+0100
TZNAME:CET
DTSTART:20231029T010000
END:STANDARD
BEGIN:DAYLIGHT
TZOFFSETFROM:+0100
TZOFFSETTO:+0200
TZNAME:CEST
DTSTART:20240331T010000
END:DAYLIGHT
BEGIN:STANDARD
TZOFFSETFROM:+0200
TZOFFSETTO:+0100
TZNAME:CET
DTSTART:20241027T010000
END:STANDARD
BEGIN:DAYLIGHT
TZOFFSETFROM:+0100
TZOFFSETTO:+0200
TZNAME:CEST
DTSTART:20250330T010000
END:DAYLIGHT
BEGIN:STANDARD
TZOFFSETFROM:+0200
TZOFFSETTO:+0100
TZNAME:CET
DTSTART:20251026T010000
END:STANDARD
END:VTIMEZONE
BEGIN:VEVENT
DTSTART;TZID=Europe/Vienna:20240208T170000
DTEND;TZID=Europe/Vienna:20240208T210000
DTSTAMP:20260420T013647
CREATED:20240118T131417Z
LAST-MODIFIED:20240118T131417Z
UID:12974-1707411600-1707426000@wikimedia.at
SUMMARY:Stammtisch plus
DESCRIPTION:Der 83. Wiener Stammtisch. Davor kann das Parlamentsgebäude in einer eigenen Führung besucht werden.
URL:https://wikimedia.at/termin/stammtisch-plus/
ATTACH;FMTTYPE=image/png:https://wikimedia.at/wp-content/uploads/Kalender-Stammtisch.svg_.png
END:VEVENT
BEGIN:VEVENT
DTSTART;TZID=Europe/Vienna:20240219T180000
DTEND;TZID=Europe/Vienna:20240219T203000
DTSTAMP:20260420T013647
CREATED:20240212T102110Z
LAST-MODIFIED:20240212T102111Z
UID:13095-1708365600-1708374600@wikimedia.at
SUMMARY:GLAM digital: Museumskette Südniedersachsen
DESCRIPTION:Ein Treffen in der Reihe GLAM digital. Dieses Mal bietet sich die Gelegenheit\, bei einem virtuellen Austausch mit dem Landschaftsverband Südniedersachsen und Vertreterinnen und Vertretern von Museen der Museumskette Südniedersachsen\, die einzelnen Museen näher kennenzulernen.
URL:https://wikimedia.at/termin/glam-digital-museumskette-suedniedersachsen/
ATTACH;FMTTYPE=image/png:https://wikimedia.at/wp-content/uploads/Kalender-Vortrag-online.png
END:VEVENT
END:VCALENDAR