
BEGIN:VCALENDAR
VERSION:2.0
PRODID:-//WIKIMEDIA Österreich - ECPv6.15.20//NONSGML v1.0//EN
CALSCALE:GREGORIAN
METHOD:PUBLISH
X-WR-CALNAME:WIKIMEDIA Österreich
X-ORIGINAL-URL:https://wikimedia.at
X-WR-CALDESC:Veranstaltungen für WIKIMEDIA Österreich
REFRESH-INTERVAL;VALUE=DURATION:PT1H
X-Robots-Tag:noindex
X-PUBLISHED-TTL:PT1H
BEGIN:VTIMEZONE
TZID:Europe/Vienna
BEGIN:DAYLIGHT
TZOFFSETFROM:+0100
TZOFFSETTO:+0200
TZNAME:CEST
DTSTART:20230326T010000
END:DAYLIGHT
BEGIN:STANDARD
TZOFFSETFROM:+0200
TZOFFSETTO:+0100
TZNAME:CET
DTSTART:20231029T010000
END:STANDARD
BEGIN:DAYLIGHT
TZOFFSETFROM:+0100
TZOFFSETTO:+0200
TZNAME:CEST
DTSTART:20240331T010000
END:DAYLIGHT
BEGIN:STANDARD
TZOFFSETFROM:+0200
TZOFFSETTO:+0100
TZNAME:CET
DTSTART:20241027T010000
END:STANDARD
BEGIN:DAYLIGHT
TZOFFSETFROM:+0100
TZOFFSETTO:+0200
TZNAME:CEST
DTSTART:20250330T010000
END:DAYLIGHT
BEGIN:STANDARD
TZOFFSETFROM:+0200
TZOFFSETTO:+0100
TZNAME:CET
DTSTART:20251026T010000
END:STANDARD
END:VTIMEZONE
BEGIN:VEVENT
DTSTART;TZID=Europe/Vienna:20240301T170000
DTEND;TZID=Europe/Vienna:20240301T183000
DTSTAMP:20260419T235121
CREATED:20240206T085037Z
LAST-MODIFIED:20240206T085249Z
UID:13073-1709312400-1709317800@wikimedia.at
SUMMARY:Netzpolitischer Abend
DESCRIPTION:Der Netzpolitische Abend greift seit 2015 aktuell relevante netzpolitische Themen auf\, schafft Bewusstsein für zukünftige technologische und gesellschaftliche Entwicklungen\, und ordnet diese in kurzweiliger und unterhaltsamer Form ein.
URL:https://wikimedia.at/termin/netzpolitischer-abend/
ATTACH;FMTTYPE=image/png:https://wikimedia.at/wp-content/uploads/Kalender-Netzpolitik.png
END:VEVENT
BEGIN:VEVENT
DTSTART;TZID=Europe/Vienna:20240301T183000
DTEND;TZID=Europe/Vienna:20240301T200000
DTSTAMP:20260419T235121
CREATED:20240206T085751Z
LAST-MODIFIED:20240206T085912Z
UID:13075-1709317800-1709323200@wikimedia.at
SUMMARY:30. Tiroler Treffen
DESCRIPTION:Das erste Tiroler Wikipedia-Treffen im neuen Jahr. Der Tisch ist auf „Wikipedia“ reserviert.
URL:https://wikimedia.at/termin/30-tiroler-treffen/
ATTACH;FMTTYPE=image/png:https://wikimedia.at/wp-content/uploads/Kalender-Stammtisch.svg_.png
END:VEVENT
BEGIN:VEVENT
DTSTART;TZID=Europe/Vienna:20240307T000000
DTEND;TZID=Europe/Vienna:20240309T235959
DTSTAMP:20260419T235121
CREATED:20240306T115113Z
LAST-MODIFIED:20240306T121517Z
UID:13152-1709769600-1710028799@wikimedia.at
SUMMARY:Art+Feminisms Workshop
DESCRIPTION:Frauen und queere Personen sind immer noch unterrepräsentiert auf Wikipedia. In diesem Workshop sind Interessierte dazu eingeladen\, Autor*innen zu werden. Gemeinsam erstellen wir Wikipedia-Einträge\, um so dem Ungleichgewicht entgegenzuwirken.
URL:https://wikimedia.at/termin/artfeminisms-workshop/
LOCATION:Belvedere 21\, Arsenalstraße 1 (Veranstaltungsraum UG)\, Wien\, 1030\, Austria
ATTACH;FMTTYPE=image/png:https://wikimedia.at/wp-content/uploads/Kalender-Workshop-real.png
END:VEVENT
BEGIN:VEVENT
DTSTART;TZID=Europe/Vienna:20240318T180000
DTEND;TZID=Europe/Vienna:20240318T200000
DTSTAMP:20260419T235121
CREATED:20240219T144224Z
LAST-MODIFIED:20240306T121614Z
UID:13109-1710784800-1710792000@wikimedia.at
SUMMARY:GLAM digital: Volkskundemuseum Wien
DESCRIPTION:In der Reihe GLAM digital besuchen wir mit dem Online-Vortrag Gesammelt um jeden Preis! Warum Objekte durch den Nationalsozialismus ins Museum kamen und wie wir damit umgehen das Volkskundemuseum Wien.
URL:https://wikimedia.at/termin/glamdigital-volkskundemsuem-wien/
LOCATION:online (Zoom)
ATTACH;FMTTYPE=image/png:https://wikimedia.at/wp-content/uploads/Kalender-Vortrag-online.png
END:VEVENT
BEGIN:VEVENT
DTSTART;TZID=Europe/Vienna:20240321T170000
DTEND;TZID=Europe/Vienna:20240321T200000
DTSTAMP:20260419T235121
CREATED:20240222T125325Z
LAST-MODIFIED:20240306T121203Z
UID:13121-1711040400-1711051200@wikimedia.at
SUMMARY:Linzer Stammtisch plus Stadtführung
DESCRIPTION:„Linz für Anfänger und Fortgeschrittene“\, eine geführte Entdeckungstour\, bei der auch fortgeschrittene Linzer*innen noch Neues erfahren können. Die Teilnahme wird von Wikimedia Österreich organisiert und ist kostenlos. \n\n\n\nNach der Führung kehren wir in die Pizzeria & Trattoria I Fratelli zum Stammtisch ein.
URL:https://wikimedia.at/termin/linzer-stammtisch-plus-stadtfuehrung/
LOCATION:Linz
ATTACH;FMTTYPE=image/png:https://wikimedia.at/wp-content/uploads/Kalender-Stammtisch.svg_.png
END:VEVENT
END:VCALENDAR